BEGIN:VCALENDAR
VERSION:2.0
PRODID:-//Fine Arts Center - ECPv6.6.4.2//NONSGML v1.0//EN
CALSCALE:GREGORIAN
METHOD:PUBLISH
X-ORIGINAL-URL:https://fhfineartscenter.com
X-WR-CALDESC:Events for Fine Arts Center
REFRESH-INTERVAL;VALUE=DURATION:PT1H
X-Robots-Tag:noindex
X-PUBLISHED-TTL:PT1H
BEGIN:VTIMEZONE
TZID:America/Detroit
BEGIN:DAYLIGHT
TZOFFSETFROM:-0500
TZOFFSETTO:-0400
TZNAME:EDT
DTSTART:20230312T070000
END:DAYLIGHT
BEGIN:STANDARD
TZOFFSETFROM:-0400
TZOFFSETTO:-0500
TZNAME:EST
DTSTART:20231105T060000
END:STANDARD
END:VTIMEZONE
BEGIN:VEVENT
DTSTART;VALUE=DATE:20230310
DTEND;VALUE=DATE:20230323
DTSTAMP:20260423T065944
CREATED:20220511T180548Z
LAST-MODIFIED:20220914T180910Z
UID:2229-1678406400-1679529599@fhfineartscenter.com
SUMMARY:Musical Rehearsal- Theatre Unavailable
DESCRIPTION:
URL:https://fhfineartscenter.com/event/musical-rehearsal-theatre-unavailable-2-2/
LOCATION:Forest Hills Fine Arts Center\, 600 Forest Hill Avenue SE\, Grand Rapids\, MI\, 49546\, United States
CATEGORIES:School Event
END:VEVENT
END:VCALENDAR