BEGIN:VCALENDAR
VERSION:2.0
PRODID:-//Fine Arts Center - ECPv6.6.4.2//NONSGML v1.0//EN
CALSCALE:GREGORIAN
METHOD:PUBLISH
X-ORIGINAL-URL:https://fhfineartscenter.com
X-WR-CALDESC:Events for Fine Arts Center
REFRESH-INTERVAL;VALUE=DURATION:PT1H
X-Robots-Tag:noindex
X-PUBLISHED-TTL:PT1H
BEGIN:VTIMEZONE
TZID:America/Detroit
BEGIN:DAYLIGHT
TZOFFSETFROM:-0500
TZOFFSETTO:-0400
TZNAME:EDT
DTSTART:20250309T070000
END:DAYLIGHT
BEGIN:STANDARD
TZOFFSETFROM:-0400
TZOFFSETTO:-0500
TZNAME:EST
DTSTART:20251102T060000
END:STANDARD
END:VTIMEZONE
BEGIN:VEVENT
DTSTART;VALUE=DATE:20250127
DTEND;VALUE=DATE:20250206
DTSTAMP:20260423T064502
CREATED:20240502T133748Z
LAST-MODIFIED:20240502T133748Z
UID:3136-1737936000-1738799999@fhfineartscenter.com
SUMMARY:Theatre Unavailable- FHE Musical Rehearsal
DESCRIPTION:
URL:https://fhfineartscenter.com/event/theatre-unavailable-fhe-musical-rehearsal-2/
CATEGORIES:High School Musicals
END:VEVENT
END:VCALENDAR