BEGIN:VCALENDAR
VERSION:2.0
PRODID:-//Fine Arts Center - ECPv6.6.4.2//NONSGML v1.0//EN
CALSCALE:GREGORIAN
METHOD:PUBLISH
X-WR-CALNAME:Fine Arts Center
X-ORIGINAL-URL:https://fhfineartscenter.com
X-WR-CALDESC:Events for Fine Arts Center
REFRESH-INTERVAL;VALUE=DURATION:PT1H
X-Robots-Tag:noindex
X-PUBLISHED-TTL:PT1H
BEGIN:VTIMEZONE
TZID:America/Detroit
BEGIN:DAYLIGHT
TZOFFSETFROM:-0500
TZOFFSETTO:-0400
TZNAME:EDT
DTSTART:20260308T070000
END:DAYLIGHT
BEGIN:STANDARD
TZOFFSETFROM:-0400
TZOFFSETTO:-0500
TZNAME:EST
DTSTART:20261101T060000
END:STANDARD
END:VTIMEZONE
BEGIN:VEVENT
DTSTART;TZID=America/Detroit:20260418T113000
DTEND;TZID=America/Detroit:20260418T123000
DTSTAMP:20260424T040526
CREATED:20260113T141827Z
LAST-MODIFIED:20260113T141859Z
UID:3636-1776511800-1776515400@fhfineartscenter.com
SUMMARY:23 Andres: Around the Americas with the Grand Rapids Symphony
DESCRIPTION:Billboard calls GRAMMY winners 123 Andrés\, “rock stars for little language learners.” Andrés Salguero and Christina Sanabria perform lively concerts in Spanish and English on stages across the US and Latin America and are even co-hosts of the award-winning PBS podcast Jamming on the Job. \n123 Andrés creates high-energy\, educational music that wins accolades and gets kids moving\, singing\, and learning — in Spanish\, English\, and American Sign Language. Their songs draw from rhythms and sound from across Latin America\, with lyrics that encourage play\, curiosity and connection. The duo performs hundreds of lively\, interactive concerts each year for students and families\, at theaters\, schools and community spaces like festivals and libraries. This concert is meant for all ages. \nTickets Only Available through the GR Symphony Box Office \nClick here for tickets 
URL:https://fhfineartscenter.com/event/23-andres-around-the-americas-with-the-grand-rapids-symphony/
CATEGORIES:Outside Rental
ATTACH;FMTTYPE=image/jpeg:https://fhfineartscenter.com/wp-content/uploads/2022/12/GR-Symphony.jpg
END:VEVENT
END:VCALENDAR