BEGIN:VCALENDAR
VERSION:2.0
PRODID:-//Fine Arts Center - ECPv6.6.4.2//NONSGML v1.0//EN
CALSCALE:GREGORIAN
METHOD:PUBLISH
X-ORIGINAL-URL:https://fhfineartscenter.com
X-WR-CALDESC:Events for Fine Arts Center
REFRESH-INTERVAL;VALUE=DURATION:PT1H
X-Robots-Tag:noindex
X-PUBLISHED-TTL:PT1H
BEGIN:VTIMEZONE
TZID:America/Detroit
BEGIN:DAYLIGHT
TZOFFSETFROM:-0500
TZOFFSETTO:-0400
TZNAME:EDT
DTSTART:20250309T070000
END:DAYLIGHT
BEGIN:STANDARD
TZOFFSETFROM:-0400
TZOFFSETTO:-0500
TZNAME:EST
DTSTART:20251102T060000
END:STANDARD
END:VTIMEZONE
BEGIN:VEVENT
DTSTART;TZID=America/Detroit:20250429T180000
DTEND;TZID=America/Detroit:20250429T183000
DTSTAMP:20260421T074756
CREATED:20240502T141813Z
LAST-MODIFIED:20250303T172201Z
UID:3170-1745949600-1745951400@fhfineartscenter.com
SUMMARY:Collins 1st & 2nd Grade Music Program
DESCRIPTION:
URL:https://fhfineartscenter.com/event/collins-music-program-2/
CATEGORIES:School Music Concerts
END:VEVENT
BEGIN:VEVENT
DTSTART;TZID=America/Detroit:20250429T190000
DTEND;TZID=America/Detroit:20250429T193000
DTSTAMP:20260421T074756
CREATED:20250303T172246Z
LAST-MODIFIED:20250303T172246Z
UID:3379-1745953200-1745955000@fhfineartscenter.com
SUMMARY:Collins 3rd & 4th Grade Music Program
DESCRIPTION:
URL:https://fhfineartscenter.com/event/collins-3rd-4th-grade-music-program/
CATEGORIES:School Music Concerts
END:VEVENT
BEGIN:VEVENT
DTSTART;TZID=America/Detroit:20250430T190000
DTEND;TZID=America/Detroit:20250430T200000
DTSTAMP:20260421T074756
CREATED:20240502T141845Z
LAST-MODIFIED:20240502T141846Z
UID:3171-1746039600-1746043200@fhfineartscenter.com
SUMMARY:FHN Spring Band Concert
DESCRIPTION:
URL:https://fhfineartscenter.com/event/fhn-spring-band-concert-3/
CATEGORIES:School Music Concerts
END:VEVENT
BEGIN:VEVENT
DTSTART;TZID=America/Detroit:20250501T180000
DTEND;TZID=America/Detroit:20250501T184500
DTSTAMP:20260421T074756
CREATED:20250303T172357Z
LAST-MODIFIED:20250401T123811Z
UID:3380-1746122400-1746125100@fhfineartscenter.com
SUMMARY:Ada Vista 1st & 2nd Grade Music Program
DESCRIPTION:
URL:https://fhfineartscenter.com/event/ada-vista-1st-2nd-grade-music-program-3/
CATEGORIES:School Music Concerts
END:VEVENT
BEGIN:VEVENT
DTSTART;TZID=America/Detroit:20250501T190000
DTEND;TZID=America/Detroit:20250501T200000
DTSTAMP:20260421T074756
CREATED:20240502T141949Z
LAST-MODIFIED:20250303T172318Z
UID:3172-1746126000-1746129600@fhfineartscenter.com
SUMMARY:Ada Vista 3rd and 4th Grade Music Program
DESCRIPTION:
URL:https://fhfineartscenter.com/event/ada-vista-3rd-and-4th-grade-music-program/
CATEGORIES:School Music Concerts
END:VEVENT
BEGIN:VEVENT
DTSTART;VALUE=DATE:20250502
DTEND;VALUE=DATE:20250505
DTSTAMP:20260421T074756
CREATED:20250106T195742Z
LAST-MODIFIED:20250106T195742Z
UID:3346-1746144000-1746403199@fhfineartscenter.com
SUMMARY:Theatre Unavailable
DESCRIPTION:
URL:https://fhfineartscenter.com/event/theatre-unavailable-3/
END:VEVENT
BEGIN:VEVENT
DTSTART;TZID=America/Detroit:20250505T190000
DTEND;TZID=America/Detroit:20250505T200000
DTSTAMP:20260421T074756
CREATED:20240502T142043Z
LAST-MODIFIED:20240502T142043Z
UID:3173-1746471600-1746475200@fhfineartscenter.com
SUMMARY:FHN Spring Orchestra Concert
DESCRIPTION:
URL:https://fhfineartscenter.com/event/fhn-spring-orchestra-concert-3/
CATEGORIES:School Music Concerts
END:VEVENT
BEGIN:VEVENT
DTSTART;TZID=America/Detroit:20250506T180000
DTEND;TZID=America/Detroit:20250506T183000
DTSTAMP:20260421T074756
CREATED:20240502T142128Z
LAST-MODIFIED:20250303T172510Z
UID:3174-1746554400-1746556200@fhfineartscenter.com
SUMMARY:Meadow Brook 1st Grade Music Program
DESCRIPTION:
URL:https://fhfineartscenter.com/event/meadow-brook-1st-and-2nd-grade-music-program/
CATEGORIES:School Music Concerts
END:VEVENT
BEGIN:VEVENT
DTSTART;TZID=America/Detroit:20250506T184500
DTEND;TZID=America/Detroit:20250506T193000
DTSTAMP:20260421T074756
CREATED:20250303T172601Z
LAST-MODIFIED:20250303T172601Z
UID:3381-1746557100-1746559800@fhfineartscenter.com
SUMMARY:Meadow Brook 2nd Grade Music Program
DESCRIPTION:
URL:https://fhfineartscenter.com/event/meadow-brook-2nd-grade-music-program/
CATEGORIES:School Music Concerts
END:VEVENT
BEGIN:VEVENT
DTSTART;TZID=America/Detroit:20250507T190000
DTEND;TZID=America/Detroit:20250507T200000
DTSTAMP:20260421T074756
CREATED:20240502T142205Z
LAST-MODIFIED:20240502T142206Z
UID:3175-1746644400-1746648000@fhfineartscenter.com
SUMMARY:Knapp Forest 5th Grade Finale Show
DESCRIPTION:
URL:https://fhfineartscenter.com/event/knapp-forest-5th-grade-finale-show-3/
CATEGORIES:School Music Concerts
END:VEVENT
BEGIN:VEVENT
DTSTART;TZID=America/Detroit:20250508T190000
DTEND;TZID=America/Detroit:20250508T203000
DTSTAMP:20260421T074756
CREATED:20240814T144604Z
LAST-MODIFIED:20240814T144605Z
UID:3295-1746730800-1746736200@fhfineartscenter.com
SUMMARY:FHC Choir Concert
DESCRIPTION:
URL:https://fhfineartscenter.com/event/fhc-choir-concert-6/
CATEGORIES:School Music Concerts
END:VEVENT
BEGIN:VEVENT
DTSTART;VALUE=DATE:20250509
DTEND;VALUE=DATE:20250512
DTSTAMP:20260421T074756
CREATED:20240502T142253Z
LAST-MODIFIED:20240814T144510Z
UID:3176-1746748800-1747007999@fhfineartscenter.com
SUMMARY:Private Rental- KCAD Commencement
DESCRIPTION:
URL:https://fhfineartscenter.com/event/private-rental-kcad-commencement/
CATEGORIES:Outside Rental
END:VEVENT
BEGIN:VEVENT
DTSTART;TZID=America/Detroit:20250510T100000
DTEND;TZID=America/Detroit:20250510T120000
DTSTAMP:20260421T074756
CREATED:20250422T161420Z
LAST-MODIFIED:20250422T161420Z
UID:3485-1746871200-1746878400@fhfineartscenter.com
SUMMARY:KCAD Commencement
DESCRIPTION:This is a ticketed event. Graduates are responsible for ordering tickets for their invited guests. \n 
URL:https://fhfineartscenter.com/event/kcad-commencement-3/
CATEGORIES:Outside Rental
ATTACH;FMTTYPE=image/jpeg:https://fhfineartscenter.com/wp-content/uploads/2022/08/KCAD.jpg
END:VEVENT
BEGIN:VEVENT
DTSTART;VALUE=DATE:20250512
DTEND;VALUE=DATE:20250515
DTSTAMP:20260421T074756
CREATED:20240502T142401Z
LAST-MODIFIED:20240502T142402Z
UID:3177-1747008000-1747267199@fhfineartscenter.com
SUMMARY:FHPS Commencement Ceremonies- No FAC Events
DESCRIPTION:
URL:https://fhfineartscenter.com/event/fhps-commencement-ceremonies-no-fac-events/
CATEGORIES:School Event
END:VEVENT
BEGIN:VEVENT
DTSTART;TZID=America/Detroit:20250515T190000
DTEND;TZID=America/Detroit:20250515T200000
DTSTAMP:20260421T074756
CREATED:20240502T142441Z
LAST-MODIFIED:20240502T142441Z
UID:3178-1747335600-1747339200@fhfineartscenter.com
SUMMARY:CW/CMS 6th-8th Grade Choir Concert
DESCRIPTION:
URL:https://fhfineartscenter.com/event/cw-cms-6th-8th-grade-choir-concert-6/
CATEGORIES:School Music Concerts
END:VEVENT
BEGIN:VEVENT
DTSTART;TZID=America/Detroit:20250516T190000
DTEND;TZID=America/Detroit:20250516T203000
DTSTAMP:20260421T074756
CREATED:20240815T143516Z
LAST-MODIFIED:20240815T143516Z
UID:3296-1747422000-1747427400@fhfineartscenter.com
SUMMARY:Grand Rapids Youth Choruses Spring Concert
DESCRIPTION:  \nMore event info can be found at https://gryouthchorus.org/event/gryc-spring-concert/
URL:https://fhfineartscenter.com/event/grand-rapids-youth-choruses-spring-concert/
CATEGORIES:Outside Rental
ATTACH;FMTTYPE=image/png:https://fhfineartscenter.com/wp-content/uploads/2024/08/GRYC.png
END:VEVENT
BEGIN:VEVENT
DTSTART;TZID=America/Detroit:20250519T190000
DTEND;TZID=America/Detroit:20250519T203000
DTSTAMP:20260421T074756
CREATED:20240725T160815Z
LAST-MODIFIED:20250402T144150Z
UID:3271-1747681200-1747686600@fhfineartscenter.com
SUMMARY:Eastern 6th Grade Choir Concert
DESCRIPTION:
URL:https://fhfineartscenter.com/event/ems-choir-concert-6/
CATEGORIES:School Music Concerts
END:VEVENT
BEGIN:VEVENT
DTSTART;TZID=America/Detroit:20250520T190000
DTEND;TZID=America/Detroit:20250520T200000
DTSTAMP:20260421T074756
CREATED:20240502T142519Z
LAST-MODIFIED:20240502T142519Z
UID:3179-1747767600-1747771200@fhfineartscenter.com
SUMMARY:NT/NHMS Band Concert
DESCRIPTION:
URL:https://fhfineartscenter.com/event/nt-nhms-band-concert-2/
CATEGORIES:School Music Concerts
END:VEVENT
BEGIN:VEVENT
DTSTART;TZID=America/Detroit:20250521T083000
DTEND;TZID=America/Detroit:20250521T120000
DTSTAMP:20260421T074756
CREATED:20250129T140758Z
LAST-MODIFIED:20250129T140758Z
UID:3360-1747816200-1747828800@fhfineartscenter.com
SUMMARY:US Courts Naturalization Oath Ceremony
DESCRIPTION:Doors open at 8:30 am for registration \nCeremony starts at 10:00 am \nFamily and Friends are welcome to attend
URL:https://fhfineartscenter.com/event/us-courts-naturalization-oath-ceremony-7/
CATEGORIES:Outside Rental
ATTACH;FMTTYPE=image/png:https://fhfineartscenter.com/wp-content/uploads/2024/04/Naturalization.png
END:VEVENT
BEGIN:VEVENT
DTSTART;TZID=America/Detroit:20250521T190000
DTEND;TZID=America/Detroit:20250521T200000
DTSTAMP:20260421T074756
CREATED:20240502T142600Z
LAST-MODIFIED:20240502T142600Z
UID:3180-1747854000-1747857600@fhfineartscenter.com
SUMMARY:CW/CMS Band Concert
DESCRIPTION:
URL:https://fhfineartscenter.com/event/cw-cms-band-concert-2/
CATEGORIES:School Music Concerts
END:VEVENT
BEGIN:VEVENT
DTSTART;TZID=America/Detroit:20250522T190000
DTEND;TZID=America/Detroit:20250522T200000
DTSTAMP:20260421T074756
CREATED:20240502T142636Z
LAST-MODIFIED:20240502T142636Z
UID:3181-1747940400-1747944000@fhfineartscenter.com
SUMMARY:NT/NHMS Spring Orchestra Concert
DESCRIPTION:
URL:https://fhfineartscenter.com/event/nt-nhms-spring-orchestra-concert/
CATEGORIES:School Music Concerts
END:VEVENT
BEGIN:VEVENT
DTSTART;VALUE=DATE:20250523
DTEND;VALUE=DATE:20250524
DTSTAMP:20260421T074756
CREATED:20250521T171645Z
LAST-MODIFIED:20250521T171645Z
UID:3496-1747958400-1748044799@fhfineartscenter.com
SUMMARY:FAC Box Office Closed
DESCRIPTION:
URL:https://fhfineartscenter.com/event/fac-box-office-closed/
END:VEVENT
BEGIN:VEVENT
DTSTART;VALUE=DATE:20250526
DTEND;VALUE=DATE:20250527
DTSTAMP:20260421T074756
CREATED:20240502T142727Z
LAST-MODIFIED:20250508T182115Z
UID:3182-1748217600-1748303999@fhfineartscenter.com
SUMMARY:FAC Closed- Memorial Day
DESCRIPTION:
URL:https://fhfineartscenter.com/event/fac-closed-memorial-day/
CATEGORIES:FH School Closure
END:VEVENT
BEGIN:VEVENT
DTSTART;TZID=America/Detroit:20250527T190000
DTEND;TZID=America/Detroit:20250527T200000
DTSTAMP:20260421T074756
CREATED:20240502T142804Z
LAST-MODIFIED:20250519T143244Z
UID:3183-1748372400-1748376000@fhfineartscenter.com
SUMMARY:FHC Inspires
DESCRIPTION:
URL:https://fhfineartscenter.com/event/fhc-inspires-5/
CATEGORIES:School Event
ATTACH;FMTTYPE=image/png:https://fhfineartscenter.com/wp-content/uploads/2024/05/Blue-Bold-Cycling-Competition-Poster.png
END:VEVENT
BEGIN:VEVENT
DTSTART;TZID=America/Detroit:20250528T180000
DTEND;TZID=America/Detroit:20250528T200000
DTSTAMP:20260421T074756
CREATED:20240502T142844Z
LAST-MODIFIED:20240502T142844Z
UID:3184-1748455200-1748462400@fhfineartscenter.com
SUMMARY:NHMS 8th Grade Class Night
DESCRIPTION:
URL:https://fhfineartscenter.com/event/nhms-8th-grade-class-night-5/
CATEGORIES:School Event
END:VEVENT
BEGIN:VEVENT
DTSTART;TZID=America/Detroit:20250529T180000
DTEND;TZID=America/Detroit:20250529T200000
DTSTAMP:20260421T074756
CREATED:20240502T142919Z
LAST-MODIFIED:20240502T142919Z
UID:3185-1748541600-1748548800@fhfineartscenter.com
SUMMARY:CMS 8th Grade Graduation
DESCRIPTION:
URL:https://fhfineartscenter.com/event/cms-8th-grade-graduation-2/
CATEGORIES:School Event
END:VEVENT
BEGIN:VEVENT
DTSTART;VALUE=DATE:20250530
DTEND;VALUE=DATE:20250625
DTSTAMP:20260421T074756
CREATED:20250106T201026Z
LAST-MODIFIED:20250129T140956Z
UID:3347-1748563200-1750809599@fhfineartscenter.com
SUMMARY:Summer Stock Load In/ Rehearsal- Theatre Not Available
DESCRIPTION:
URL:https://fhfineartscenter.com/event/summer-stock-load-in-rehearsal-theatre-not-available/
END:VEVENT
BEGIN:VEVENT
DTSTART;TZID=America/Detroit:20250604T083000
DTEND;TZID=America/Detroit:20250604T120000
DTSTAMP:20260421T074756
CREATED:20250129T140923Z
LAST-MODIFIED:20250129T140923Z
UID:3361-1749025800-1749038400@fhfineartscenter.com
SUMMARY:US Courts Naturalization Oath Ceremony
DESCRIPTION:Doors open at 8:30 am for registration \nCeremony starts at 10:00 am \nFamily and Friends welcome to attend
URL:https://fhfineartscenter.com/event/us-courts-naturalization-oath-ceremony-8/
CATEGORIES:Outside Rental
ATTACH;FMTTYPE=image/png:https://fhfineartscenter.com/wp-content/uploads/2024/04/Naturalization.png
END:VEVENT
BEGIN:VEVENT
DTSTART;TZID=America/Detroit:20250605T180000
DTEND;TZID=America/Detroit:20250605T190000
DTSTAMP:20260421T074756
CREATED:20240502T154846Z
LAST-MODIFIED:20240725T161617Z
UID:3197-1749146400-1749150000@fhfineartscenter.com
SUMMARY:Richard Jordan Art Reception
DESCRIPTION:
URL:https://fhfineartscenter.com/event/richard-jordan-art-reception/
CATEGORIES:Artist Reception
ATTACH;FMTTYPE=image/png:https://fhfineartscenter.com/wp-content/uploads/2024/05/Black-Monochrome-Photo-Collage.png
END:VEVENT
BEGIN:VEVENT
DTSTART;TZID=America/Detroit:20250609T183000
DTEND;TZID=America/Detroit:20250609T203000
DTSTAMP:20260421T074756
CREATED:20240502T143021Z
LAST-MODIFIED:20240725T160918Z
UID:3186-1749493800-1749501000@fhfineartscenter.com
SUMMARY:FHPS Board of Education Meeting
DESCRIPTION:
URL:https://fhfineartscenter.com/event/fhps-board-of-education-meeting-10/
CATEGORIES:Administration Event
END:VEVENT
END:VCALENDAR