BEGIN:VCALENDAR
VERSION:2.0
PRODID:-//Fine Arts Center - ECPv6.6.4.2//NONSGML v1.0//EN
CALSCALE:GREGORIAN
METHOD:PUBLISH
X-WR-CALNAME:Fine Arts Center
X-ORIGINAL-URL:https://fhfineartscenter.com
X-WR-CALDESC:Events for Fine Arts Center
REFRESH-INTERVAL;VALUE=DURATION:PT1H
X-Robots-Tag:noindex
X-PUBLISHED-TTL:PT1H
BEGIN:VTIMEZONE
TZID:America/Detroit
BEGIN:DAYLIGHT
TZOFFSETFROM:-0500
TZOFFSETTO:-0400
TZNAME:EDT
DTSTART:20240310T070000
END:DAYLIGHT
BEGIN:STANDARD
TZOFFSETFROM:-0400
TZOFFSETTO:-0500
TZNAME:EST
DTSTART:20241103T060000
END:STANDARD
END:VTIMEZONE
BEGIN:VEVENT
DTSTART;TZID=America/Detroit:20240306T190000
DTEND;TZID=America/Detroit:20240306T203000
DTSTAMP:20260421T082316
CREATED:20230518T130608Z
LAST-MODIFIED:20230518T130608Z
UID:2850-1709751600-1709757000@fhfineartscenter.com
SUMMARY:FHPS Orchestra Masterworks
DESCRIPTION:
URL:https://fhfineartscenter.com/event/fhps-orchestra-masterworks/
CATEGORIES:School Music Concerts
END:VEVENT
BEGIN:VEVENT
DTSTART;TZID=America/Detroit:20240307T180000
DTEND;TZID=America/Detroit:20240307T193000
DTSTAMP:20260421T082316
CREATED:20230518T130646Z
LAST-MODIFIED:20240307T194025Z
UID:2851-1709834400-1709839800@fhfineartscenter.com
SUMMARY:FHPS Orchestra Soiree
DESCRIPTION:
URL:https://fhfineartscenter.com/event/fhps-orchestra-soiree-3/
CATEGORIES:School Music Concerts
END:VEVENT
BEGIN:VEVENT
DTSTART;VALUE=DATE:20240311
DTEND;VALUE=DATE:20240321
DTSTAMP:20260421T082316
CREATED:20230518T130739Z
LAST-MODIFIED:20230518T130739Z
UID:2852-1710115200-1710979199@fhfineartscenter.com
SUMMARY:FH Central Musical Rehearsal- Theatre Unavailable
DESCRIPTION:
URL:https://fhfineartscenter.com/event/fh-central-musical-rehearsal-theatre-unavailable/
CATEGORIES:High School Musicals
END:VEVENT
BEGIN:VEVENT
DTSTART;TZID=America/Detroit:20240318T190000
DTEND;TZID=America/Detroit:20240318T210000
DTSTAMP:20260421T082316
CREATED:20230518T143752Z
LAST-MODIFIED:20230720T191556Z
UID:2901-1710788400-1710795600@fhfineartscenter.com
SUMMARY:FHPS Board of Education Meeting
DESCRIPTION:Meeting will take place in the Lobby
URL:https://fhfineartscenter.com/event/fhps-board-of-education-meeting-14/
CATEGORIES:Administration Event
END:VEVENT
BEGIN:VEVENT
DTSTART;TZID=America/Detroit:20240321T190000
DTEND;TZID=America/Detroit:20240321T210000
DTSTAMP:20260421T082316
CREATED:20230518T130839Z
LAST-MODIFIED:20240314T163553Z
UID:2853-1711047600-1711054800@fhfineartscenter.com
SUMMARY:FHC Presents The Spelling Bee
DESCRIPTION:Ticket on sale mid February 2024
URL:https://fhfineartscenter.com/event/fhc-musical-performance/
CATEGORIES:High School Musicals
END:VEVENT
BEGIN:VEVENT
DTSTART;TZID=America/Detroit:20240322T190000
DTEND;TZID=America/Detroit:20240322T210000
DTSTAMP:20260421T082316
CREATED:20230518T130839Z
LAST-MODIFIED:20240314T163554Z
UID:2854-1711134000-1711141200@fhfineartscenter.com
SUMMARY:FHC Presents The Spelling Bee
DESCRIPTION:Ticket on sale mid February 2024
URL:https://fhfineartscenter.com/event/fhc-musical-performance-2024-03-22/
CATEGORIES:High School Musicals
END:VEVENT
BEGIN:VEVENT
DTSTART;TZID=America/Detroit:20240323T150000
DTEND;TZID=America/Detroit:20240323T170000
DTSTAMP:20260421T082316
CREATED:20230518T130911Z
LAST-MODIFIED:20240111T181246Z
UID:2856-1711206000-1711213200@fhfineartscenter.com
SUMMARY:FHC Presents The Spelling Bee
DESCRIPTION:
URL:https://fhfineartscenter.com/event/fh-central-musical-performance/
CATEGORIES:High School Musicals
END:VEVENT
BEGIN:VEVENT
DTSTART;TZID=America/Detroit:20240323T190000
DTEND;TZID=America/Detroit:20240323T210000
DTSTAMP:20260421T082316
CREATED:20230518T130839Z
LAST-MODIFIED:20240314T163554Z
UID:2855-1711220400-1711227600@fhfineartscenter.com
SUMMARY:FHC Presents The Spelling Bee
DESCRIPTION:Ticket on sale mid February 2024
URL:https://fhfineartscenter.com/event/fhc-musical-performance-2024-03-23/
CATEGORIES:High School Musicals
END:VEVENT
BEGIN:VEVENT
DTSTART;VALUE=DATE:20240325
DTEND;VALUE=DATE:20240326
DTSTAMP:20260421T082316
CREATED:20230518T130951Z
LAST-MODIFIED:20230518T130951Z
UID:2857-1711324800-1711411199@fhfineartscenter.com
SUMMARY:Theatre Restore- No Events
DESCRIPTION:
URL:https://fhfineartscenter.com/event/theatre-restore-no-events-2/
CATEGORIES:Stage restore from prior event
END:VEVENT
BEGIN:VEVENT
DTSTART;TZID=America/Detroit:20240326T190000
DTEND;TZID=America/Detroit:20240326T210000
DTSTAMP:20260421T082316
CREATED:20230518T131034Z
LAST-MODIFIED:20230518T131034Z
UID:2858-1711479600-1711486800@fhfineartscenter.com
SUMMARY:FHN Music Department Showcase
DESCRIPTION:
URL:https://fhfineartscenter.com/event/fhn-music-department-showcase/
CATEGORIES:School Music Concerts
END:VEVENT
BEGIN:VEVENT
DTSTART;VALUE=DATE:20240401
DTEND;VALUE=DATE:20240406
DTSTAMP:20260421T082316
CREATED:20230518T131201Z
LAST-MODIFIED:20230518T131201Z
UID:2860-1711929600-1712361599@fhfineartscenter.com
SUMMARY:Closed- Spring Break
DESCRIPTION:
URL:https://fhfineartscenter.com/event/closed-spring-break/
CATEGORIES:FH School Closure
END:VEVENT
BEGIN:VEVENT
DTSTART;TZID=America/Detroit:20240411T180000
DTEND;TZID=America/Detroit:20240411T193000
DTSTAMP:20260421T082316
CREATED:20230523T124154Z
LAST-MODIFIED:20240327T162349Z
UID:2912-1712858400-1712863800@fhfineartscenter.com
SUMMARY:FHPS Student Art Reception
DESCRIPTION:Stroll the hallways and lobby gallery and check out art by some very talented FH Students. \nReception is open to the public \nCookies and Lemonade provided
URL:https://fhfineartscenter.com/event/fhps-student-art-reception-3/
CATEGORIES:Artist Reception
END:VEVENT
BEGIN:VEVENT
DTSTART;TZID=America/Detroit:20240413T190000
DTEND;TZID=America/Detroit:20240413T210000
DTSTAMP:20260421T082316
CREATED:20230518T131336Z
LAST-MODIFIED:20240327T161442Z
UID:2861-1713034800-1713042000@fhfineartscenter.com
SUMMARY:FHN 30th Anniversary Broadway Revue and Farewell Tour
DESCRIPTION:Join us for performances by the FHN Theater Students and FHN Alumni as they celebrate 30 years of incredible theater and the retirement of Mr. Howard. Music for the evening will showcase numbers from past shows. \n$10 each- reserved seating \nGet tickets
URL:https://fhfineartscenter.com/event/rehearsal-performance-fhn-30-year-spectacular/
CATEGORIES:School Music Concerts
END:VEVENT
BEGIN:VEVENT
DTSTART;VALUE=DATE:20240415
DTEND;VALUE=DATE:20240416
DTSTAMP:20260421T082316
CREATED:20230518T131415Z
LAST-MODIFIED:20230518T131415Z
UID:2862-1713139200-1713225599@fhfineartscenter.com
SUMMARY:Theatre Restore- No Events
DESCRIPTION:
URL:https://fhfineartscenter.com/event/theatre-restore-no-events-3/
CATEGORIES:Stage restore from prior event
END:VEVENT
BEGIN:VEVENT
DTSTART;TZID=America/Detroit:20240415T190000
DTEND;TZID=America/Detroit:20240415T203000
DTSTAMP:20260421T082316
CREATED:20230518T131719Z
LAST-MODIFIED:20230720T191904Z
UID:2865-1713207600-1713213000@fhfineartscenter.com
SUMMARY:FHPS Board of Education Meeting
DESCRIPTION:Meeting will take place in the Lobby
URL:https://fhfineartscenter.com/event/fhps-board-of-education-meeting-9/
CATEGORIES:Administration Event
END:VEVENT
BEGIN:VEVENT
DTSTART;TZID=America/Detroit:20240416T190000
DTEND;TZID=America/Detroit:20240416T200000
DTSTAMP:20260421T082316
CREATED:20230523T120157Z
LAST-MODIFIED:20230523T120157Z
UID:2906-1713294000-1713297600@fhfineartscenter.com
SUMMARY:Collins Elementary Music Program
DESCRIPTION:
URL:https://fhfineartscenter.com/event/collins-elementary-music-program-2/
CATEGORIES:School Music Concerts
END:VEVENT
BEGIN:VEVENT
DTSTART;TZID=America/Detroit:20240417T083000
DTEND;TZID=America/Detroit:20240417T120000
DTSTAMP:20260421T082316
CREATED:20240416T180843Z
LAST-MODIFIED:20240416T183909Z
UID:3086-1713342600-1713355200@fhfineartscenter.com
SUMMARY:US Naturalization Oath Ceremony
DESCRIPTION:Doors open at 8:30 am for registration of Oath participants. \nFamily and friends are welcome to attend ceremony which starts at 10:00 am.  Ceremonies typically last 1 1/2 hours -2 depending the number of new citizens. \nCall FAC for questions about the venue.  Any immigration/documentation related questions need to be directed to the Department of Naturalization and Immigration \nHelium balloons are prohibited inside the facility \nPhotos taken from the event are available at www.miwd.uscourts.gov
URL:https://fhfineartscenter.com/event/us-naturalization-oath-ceremony/
CATEGORIES:Outside Rental
ATTACH;FMTTYPE=image/png:https://fhfineartscenter.com/wp-content/uploads/2024/04/Naturalization.png
END:VEVENT
BEGIN:VEVENT
DTSTART;TZID=America/Detroit:20240417T190000
DTEND;TZID=America/Detroit:20240417T203000
DTSTAMP:20260421T082316
CREATED:20230518T131844Z
LAST-MODIFIED:20230815T132614Z
UID:2867-1713380400-1713385800@fhfineartscenter.com
SUMMARY:FH Northern Choir Concert
DESCRIPTION:
URL:https://fhfineartscenter.com/event/fh-northern-choir-concert-2/
CATEGORIES:School Music Concerts
END:VEVENT
BEGIN:VEVENT
DTSTART;TZID=America/Detroit:20240418T183000
DTEND;TZID=America/Detroit:20240418T203000
DTSTAMP:20260421T082316
CREATED:20230518T131608Z
LAST-MODIFIED:20240327T163516Z
UID:2864-1713465000-1713472200@fhfineartscenter.com
SUMMARY:Ada Vista Music Program
DESCRIPTION:
URL:https://fhfineartscenter.com/event/fh-eastern-choir-concert-3/
CATEGORIES:School Music Concerts
END:VEVENT
BEGIN:VEVENT
DTSTART;TZID=America/Detroit:20240421T190000
DTEND;TZID=America/Detroit:20240421T210000
DTSTAMP:20260421T082316
CREATED:20230801T154658Z
LAST-MODIFIED:20230817T160436Z
UID:2954-1713726000-1713733200@fhfineartscenter.com
SUMMARY:Spamilton - An American Parody
DESCRIPTION:Created by Gerard Alessandrini\, the comic mastermind behind the long-running hit Forbidden Broadway and performed by a versatile cast of eight\, Spamilton: An American Parody is a side-splitting new musical parody. A crash course of everyone’s favorite Broadway blockbusters\, including celebrity satires\, pop culture zings accompanied with hip-hop on the piano! After tearing it up in New York\, Chicago\, Los Angeles\, and London\, Spamilton: An American Parody will stage a singing\, dancing\, comedy revolution in Grand Rapids! \n  \nMarilyn Stasio of Variety mused\, “Hip-hop\, Broadway showtunes\, Viennese waltzes — is there anything this guy can’t write? No\, not Hamilton creator Lin-Manuel Miranda\, but Gerard Alessandrini\, whose ingenious parody Spamilton simultaneously salutes and sends up Miranda and his signature musical.” Ben Brantley of The New York Times said\, “This smart\, silly\, and often convulsively funny thesis\, performed by a motor-mouthed cast that is fluent in many tongues\, is the work of that eminent specialist in Broadway anatomy\, pathology\, and gossip\, Gerard Alessandrini.”  \nhttps://fhfineartscenter.com/wp-content/uploads/2023/08/Spamilton-Teaser.mp4\nhttp://fhfac.ludus.com
URL:https://fhfineartscenter.com/event/spamilton-an-american-parody/
CATEGORIES:Professional Series
END:VEVENT
BEGIN:VEVENT
DTSTART;TZID=America/Detroit:20240422T183000
DTEND;TZID=America/Detroit:20240422T190000
DTSTAMP:20260421T082316
CREATED:20230518T131803Z
LAST-MODIFIED:20240327T163653Z
UID:2866-1713810600-1713812400@fhfineartscenter.com
SUMMARY:FHE 7th & 8th Grade Choir Concert
DESCRIPTION:
URL:https://fhfineartscenter.com/event/fh-eastern-choir-concert-4/
CATEGORIES:School Music Concerts
END:VEVENT
BEGIN:VEVENT
DTSTART;TZID=America/Detroit:20240422T193000
DTEND;TZID=America/Detroit:20240422T200000
DTSTAMP:20260421T082316
CREATED:20240327T163813Z
LAST-MODIFIED:20240327T163814Z
UID:3077-1713814200-1713816000@fhfineartscenter.com
SUMMARY:FHE 9th-12th Grade Choir Concert
DESCRIPTION:
URL:https://fhfineartscenter.com/event/fhe-9th-12th-grade-choir-concert/
CATEGORIES:School Music Concerts
END:VEVENT
BEGIN:VEVENT
DTSTART;TZID=America/Detroit:20240423T190000
DTEND;TZID=America/Detroit:20240423T203000
DTSTAMP:20260421T082316
CREATED:20230518T131525Z
LAST-MODIFIED:20230815T132523Z
UID:2863-1713898800-1713904200@fhfineartscenter.com
SUMMARY:FH Northern Hills MS 6th-8th Grade Choir Concert
DESCRIPTION:
URL:https://fhfineartscenter.com/event/fh-northern-hills-ms-6th-8th-grade-choir-concert/
CATEGORIES:School Music Concerts
END:VEVENT
BEGIN:VEVENT
DTSTART;TZID=America/Detroit:20240424T190000
DTEND;TZID=America/Detroit:20240424T203000
DTSTAMP:20260421T082316
CREATED:20230518T131930Z
LAST-MODIFIED:20230518T131930Z
UID:2868-1713985200-1713990600@fhfineartscenter.com
SUMMARY:FH Central Choir Concert
DESCRIPTION:
URL:https://fhfineartscenter.com/event/fh-central-choir-concert-2/
CATEGORIES:School Music Concerts
END:VEVENT
BEGIN:VEVENT
DTSTART;TZID=America/Detroit:20240427T130000
DTEND;TZID=America/Detroit:20240427T150000
DTSTAMP:20260421T082316
CREATED:20230518T132024Z
LAST-MODIFIED:20240327T162856Z
UID:2869-1714222800-1714230000@fhfineartscenter.com
SUMMARY:WMYB Presents The Wizard of Oz
DESCRIPTION:Step into a world of enchantment with the mesmerizing “Wizard of Oz Ballet.” This timeless production transforms the classic tale into a breathtaking dance extravaganza\, where each twirl and leap brings the beloved characters to life in a magical display of grace and artistry. Follow Dorothy’s journey down the yellow brick road\, accompanied by the Scarecrow\, Tin Man\, and Cowardly Lion\, as they encounter the Wicked Witch and the whimsical Wizard himself. With stunning choreography and dazzling costumes\, the Wizard of Oz Ballet is a spellbinding experience that captivates audiences of all ages. Join us on a dance-filled adventure that transcends the boundaries of imagination and celebrates the power of friendship\, courage\, and the magic that lies within us all. \nGet Tickets
URL:https://fhfineartscenter.com/event/wmyb-spring-rental/
CATEGORIES:Outside Rental
END:VEVENT
BEGIN:VEVENT
DTSTART;TZID=America/Detroit:20240427T163000
DTEND;TZID=America/Detroit:20240427T183000
DTSTAMP:20260421T082316
CREATED:20240327T163316Z
LAST-MODIFIED:20240327T163316Z
UID:3076-1714235400-1714242600@fhfineartscenter.com
SUMMARY:WMYB Presents The Wizard of Oz
DESCRIPTION:Step into a world of enchantment with the mesmerizing “Wizard of Oz Ballet.” This timeless production transforms the classic tale into a breathtaking dance extravaganza\, where each twirl and leap brings the beloved characters to life in a magical display of grace and artistry. Follow Dorothy’s journey down the yellow brick road\, accompanied by the Scarecrow\, Tin Man\, and Cowardly Lion\, as they encounter the Wicked Witch and the whimsical Wizard himself. With stunning choreography and dazzling costumes\, the Wizard of Oz Ballet is a spellbinding experience that captivates audiences of all ages. Join us on a dance-filled adventure that transcends the boundaries of imagination and celebrates the power of friendship\, courage\, and the magic that lies within us all. \nGet Tickets
URL:https://fhfineartscenter.com/event/wmyb-presents-the-wizard-of-oz/
CATEGORIES:Outside Rental
END:VEVENT
BEGIN:VEVENT
DTSTART;TZID=America/Detroit:20240428T130000
DTEND;TZID=America/Detroit:20240428T150000
DTSTAMP:20260421T082316
CREATED:20230518T132024Z
LAST-MODIFIED:20230518T132024Z
UID:3075-1714309200-1714316400@fhfineartscenter.com
SUMMARY:WMYB Presents The Wizard of Oz
DESCRIPTION:Step into a world of enchantment with the mesmerizing “Wizard of Oz Ballet.” This timeless production transforms the classic tale into a breathtaking dance extravaganza\, where each twirl and leap brings the beloved characters to life in a magical display of grace and artistry. Follow Dorothy’s journey down the yellow brick road\, accompanied by the Scarecrow\, Tin Man\, and Cowardly Lion\, as they encounter the Wicked Witch and the whimsical Wizard himself. With stunning choreography and dazzling costumes\, the Wizard of Oz Ballet is a spellbinding experience that captivates audiences of all ages. Join us on a dance-filled adventure that transcends the boundaries of imagination and celebrates the power of friendship\, courage\, and the magic that lies within us all. \nGet Tickets
URL:https://fhfineartscenter.com/event/wmyb-spring-rental-2024-04-28/
CATEGORIES:Outside Rental
END:VEVENT
BEGIN:VEVENT
DTSTART;VALUE=DATE:20240429
DTEND;VALUE=DATE:20240430
DTSTAMP:20260421T082316
CREATED:20230518T132516Z
LAST-MODIFIED:20230518T132516Z
UID:2870-1714348800-1714435199@fhfineartscenter.com
SUMMARY:Theatre Restore- No Events
DESCRIPTION:
URL:https://fhfineartscenter.com/event/theatre-restore-no-events-4/
CATEGORIES:Stage restore from prior event
END:VEVENT
BEGIN:VEVENT
DTSTART;TZID=America/Detroit:20240430T190000
DTEND;TZID=America/Detroit:20240430T203000
DTSTAMP:20260421T082316
CREATED:20230518T132603Z
LAST-MODIFIED:20230518T132604Z
UID:2871-1714503600-1714509000@fhfineartscenter.com
SUMMARY:FH Northern Spring Band Concert
DESCRIPTION:
URL:https://fhfineartscenter.com/event/fh-northern-spring-band-concert/
CATEGORIES:School Music Concerts
END:VEVENT
BEGIN:VEVENT
DTSTART;TZID=America/Detroit:20240501T190000
DTEND;TZID=America/Detroit:20240501T203000
DTSTAMP:20260421T082316
CREATED:20230518T132641Z
LAST-MODIFIED:20230518T132641Z
UID:2872-1714590000-1714595400@fhfineartscenter.com
SUMMARY:Knapp Forest 5th Grade Finale Show
DESCRIPTION:
URL:https://fhfineartscenter.com/event/knapp-forest-5th-grade-finale-show/
CATEGORIES:School Music Concerts
END:VEVENT
END:VCALENDAR